BEGIN:VCALENDAR
VERSION:2.0
PRODID:-//Mostra d&#039;Oltremare - ECPv6.7.0//NONSGML v1.0//EN
CALSCALE:GREGORIAN
METHOD:PUBLISH
X-WR-CALNAME:Mostra d&#039;Oltremare
X-ORIGINAL-URL:https://sviluppo.mostradoltremare.it
X-WR-CALDESC:Eventi per Mostra d&#039;Oltremare
REFRESH-INTERVAL;VALUE=DURATION:PT1H
X-Robots-Tag:noindex
X-PUBLISHED-TTL:PT1H
BEGIN:VTIMEZONE
TZID:UTC
BEGIN:STANDARD
TZOFFSETFROM:+0000
TZOFFSETTO:+0000
TZNAME:UTC
DTSTART:20230101T000000
END:STANDARD
END:VTIMEZONE
BEGIN:VEVENT
DTSTART;TZID=UTC:20230304T093000
DTEND;TZID=UTC:20240305T183000
DTSTAMP:20260421T131006
CREATED:20241001T225053Z
LAST-MODIFIED:20241001T225110Z
UID:20176-1677922200-1709663400@sviluppo.mostradoltremare.it
SUMMARY:EXVAPO 2023 - 4^ edizione
DESCRIPTION:La fiera dello svapo del Sud Italia\nIngresso Viale Kennedy 54\nPer informazioni: info@exvapo.com; per preventivi: direzione@exvapo.com-\nIngresso gratuito\, previa registrazione online. Per scaricare i biglietti: Biglietti – EXVAPO Napoli\nIngresso vietato ai minori di 18 anni se non accompagnati dai propri genitori.
URL:https://sviluppo.mostradoltremare.it/event/exvapo-2023-4-edizione/
LOCATION:Padiglione 6\, Viale Kennedy 54
ATTACH;FMTTYPE=image/png:https://sviluppo.mostradoltremare.it/wp-content/uploads/2024/10/20176_image_Exvapo-2023.png
ORGANIZER;CN="Atohm Service srls":MAILTO:info@exvapo_com
END:VEVENT
BEGIN:VEVENT
DTSTART;TZID=UTC:20230705T093000
DTEND;TZID=UTC:20230708T180000
DTSTAMP:20260421T131006
CREATED:20241004T065428Z
LAST-MODIFIED:20241004T065445Z
UID:23769-1688549400-1688839200@sviluppo.mostradoltremare.it
SUMMARY:Concorso Pubblico RIPAM
DESCRIPTION:per titoli ed esami\, per la copertura di complessivi 2293 posti di personale non dirigenziale di area seconda\, a tempo indeterminato\, da inquadrare nei ruoli della Presidenza del Consiglio dei Ministri\, del Ministero dell’Economia e delle Finanze\, del Ministero dell’Interno\, del Ministero della Cultura e dell’Avvocatura dello Stato.\nPrima sessione inizio ore 9\,30 – seconda sessione inizio ore 14\,30.\nIngresso Piazzale Tecchio
URL:https://sviluppo.mostradoltremare.it/event/concorso-pubblico-ripam/
LOCATION:Padiglioni 1-2-3-3B\, Piazzale Tecchio\, Napoli\, 80125\, Italia
CATEGORIES:Concorsi
ATTACH;FMTTYPE=image/png:https://sviluppo.mostradoltremare.it/wp-content/uploads/2024/10/20619_image_banchetti-1.png
ORGANIZER;CN="Formez PA":MAILTO:protocollo@pec_formez_it
END:VEVENT
BEGIN:VEVENT
DTSTART;TZID=UTC:20230708T200000
DTEND;TZID=UTC:20230708T233000
DTSTAMP:20260421T131006
CREATED:20241002T110322Z
LAST-MODIFIED:20241002T110339Z
UID:22319-1688846400-1688859000@sviluppo.mostradoltremare.it
SUMMARY:Saggio di Attitude Dance Studio
DESCRIPTION:
URL:https://sviluppo.mostradoltremare.it/event/saggio-di-attitude-dance-studio/
LOCATION:Teatro Mediterraneo\, Viale Kennedy 54\, Napoli\, 80125
CATEGORIES:Spettacolo
ATTACH;FMTTYPE=image/jpeg:https://sviluppo.mostradoltremare.it/wp-content/uploads/2024/10/22319_image_attitude-dance-studio.jpg
ORGANIZER;CN="Attitude Dance Studio":MAILTO:attitudeballet@virgilio_it
END:VEVENT
END:VCALENDAR