BEGIN:VCALENDAR
VERSION:2.0
PRODID:-//Mostra d&#039;Oltremare - ECPv6.7.0//NONSGML v1.0//EN
CALSCALE:GREGORIAN
METHOD:PUBLISH
X-ORIGINAL-URL:https://sviluppo.mostradoltremare.it
X-WR-CALDESC:Eventi per Mostra d&#039;Oltremare
REFRESH-INTERVAL;VALUE=DURATION:PT1H
X-Robots-Tag:noindex
X-PUBLISHED-TTL:PT1H
BEGIN:VTIMEZONE
TZID:UTC
BEGIN:STANDARD
TZOFFSETFROM:+0000
TZOFFSETTO:+0000
TZNAME:UTC
DTSTART:20230101T000000
END:STANDARD
END:VTIMEZONE
BEGIN:VEVENT
DTSTART;TZID=UTC:20230304T093000
DTEND;TZID=UTC:20240305T183000
DTSTAMP:20260421T162227
CREATED:20241001T225053Z
LAST-MODIFIED:20241001T225110Z
UID:20176-1677922200-1709663400@sviluppo.mostradoltremare.it
SUMMARY:EXVAPO 2023 - 4^ edizione
DESCRIPTION:La fiera dello svapo del Sud Italia\nIngresso Viale Kennedy 54\nPer informazioni: info@exvapo.com; per preventivi: direzione@exvapo.com-\nIngresso gratuito\, previa registrazione online. Per scaricare i biglietti: Biglietti – EXVAPO Napoli\nIngresso vietato ai minori di 18 anni se non accompagnati dai propri genitori.
URL:https://sviluppo.mostradoltremare.it/event/exvapo-2023-4-edizione/
LOCATION:Padiglione 6\, Viale Kennedy 54
ATTACH;FMTTYPE=image/png:https://sviluppo.mostradoltremare.it/wp-content/uploads/2024/10/20176_image_Exvapo-2023.png
ORGANIZER;CN="Atohm Service srls":MAILTO:info@exvapo_com
END:VEVENT
BEGIN:VEVENT
DTSTART;TZID=UTC:20230627T100000
DTEND;TZID=UTC:20230627T153000
DTSTAMP:20260421T162227
CREATED:20241002T083754Z
LAST-MODIFIED:20241002T110140Z
UID:20758-1687860000-1687879800@sviluppo.mostradoltremare.it
SUMMARY:Corso Concorso SNA Scuola Nazionale dell'Amministrazione
DESCRIPTION:Corso concorso selettivo di formazione dirigenziale per il reclutamento di dirigenti nelle amministrazioni statali\, anche a ordinamento autonomo\, e negli enti pubblici non economici.\nIngresso Piazzale Tecchio
URL:https://sviluppo.mostradoltremare.it/event/corso-concorso-sna-scuola-nazionale-dellamministrazione/
LOCATION:Padiglioni 1-2-3-3B-10\, Piazzale Tecchio 52\, Napoli\, 80125\, Italia
CATEGORIES:Concorsi
ATTACH;FMTTYPE=image/png:https://sviluppo.mostradoltremare.it/wp-content/uploads/2024/10/20758_image_scuola-nazionale-amministrazione.png
ORGANIZER;CN="S.S.D. SHEHERAZADE SRL":MAILTO:info@centrodanzasheherazade_it
END:VEVENT
BEGIN:VEVENT
DTSTART;TZID=UTC:20230627T190000
DTEND;TZID=UTC:20230627T233000
DTSTAMP:20260421T162227
CREATED:20241002T083902Z
LAST-MODIFIED:20241002T110145Z
UID:20762-1687892400-1687908600@sviluppo.mostradoltremare.it
SUMMARY:Saggio del Centro Studi Visione Danza
DESCRIPTION:Ingresso Viale Kennedy 54
URL:https://sviluppo.mostradoltremare.it/event/saggio-del-centro-studi-visione-danza-3/
LOCATION:Teatro Mediterraneo\, Viale Kennedy 54\, Napoli\, 80125
CATEGORIES:Spettacoli
ATTACH;FMTTYPE=image/jpeg:https://sviluppo.mostradoltremare.it/wp-content/uploads/2024/10/20762_image_visione-danza.jpg
ORGANIZER;CN="S.S.D. SHEHERAZADE SRL":MAILTO:info@centrodanzasheherazade_it
END:VEVENT
END:VCALENDAR