BEGIN:VCALENDAR
VERSION:2.0
PRODID:-//Mostra d&#039;Oltremare - ECPv6.7.0//NONSGML v1.0//EN
CALSCALE:GREGORIAN
METHOD:PUBLISH
X-WR-CALNAME:Mostra d&#039;Oltremare
X-ORIGINAL-URL:https://sviluppo.mostradoltremare.it
X-WR-CALDESC:Eventi per Mostra d&#039;Oltremare
REFRESH-INTERVAL;VALUE=DURATION:PT1H
X-Robots-Tag:noindex
X-PUBLISHED-TTL:PT1H
BEGIN:VTIMEZONE
TZID:UTC
BEGIN:STANDARD
TZOFFSETFROM:+0000
TZOFFSETTO:+0000
TZNAME:UTC
DTSTART:20230101T000000
END:STANDARD
END:VTIMEZONE
BEGIN:VEVENT
DTSTART;TZID=UTC:20230304T093000
DTEND;TZID=UTC:20240305T183000
DTSTAMP:20260421T175633
CREATED:20241001T225053Z
LAST-MODIFIED:20241001T225110Z
UID:20176-1677922200-1709663400@sviluppo.mostradoltremare.it
SUMMARY:EXVAPO 2023 - 4^ edizione
DESCRIPTION:La fiera dello svapo del Sud Italia\nIngresso Viale Kennedy 54\nPer informazioni: info@exvapo.com; per preventivi: direzione@exvapo.com-\nIngresso gratuito\, previa registrazione online. Per scaricare i biglietti: Biglietti – EXVAPO Napoli\nIngresso vietato ai minori di 18 anni se non accompagnati dai propri genitori.
URL:https://sviluppo.mostradoltremare.it/event/exvapo-2023-4-edizione/
LOCATION:Padiglione 6\, Viale Kennedy 54
ATTACH;FMTTYPE=image/png:https://sviluppo.mostradoltremare.it/wp-content/uploads/2024/10/20176_image_Exvapo-2023.png
ORGANIZER;CN="Atohm Service srls":MAILTO:info@exvapo_com
END:VEVENT
BEGIN:VEVENT
DTSTART;TZID=UTC:20230529T093000
DTEND;TZID=UTC:20230529T180000
DTSTAMP:20260421T175633
CREATED:20241002T080702Z
LAST-MODIFIED:20241002T105828Z
UID:20619-1685352600-1685383200@sviluppo.mostradoltremare.it
SUMMARY:Concorso Ministero della Giustizia
DESCRIPTION:sessione Profilo Funzionario della Professionalità Pedagogica (codice 01) = ore 9\,30;\nsessione Profilo Funzionario della Professionalità di Servizio Sociale (codice 02) = ore 14\,30.\nIngresso Candidati = Piazzale Tecchio
URL:https://sviluppo.mostradoltremare.it/event/concorso-ministero-della-giustizia/
LOCATION:Padiglioni 1 e 2\, Piazzale Tecchio\, Napoli\, 80125
CATEGORIES:Concorsi
ATTACH;FMTTYPE=image/png:https://sviluppo.mostradoltremare.it/wp-content/uploads/2024/10/20619_image_banchetti-1.png
ORGANIZER;CN="Formez PA":MAILTO:protocollo@pec_formez_it
END:VEVENT
BEGIN:VEVENT
DTSTART;TZID=UTC:20230529T190000
DTEND;TZID=UTC:20230529T230000
DTSTAMP:20260421T175633
CREATED:20241002T080745Z
LAST-MODIFIED:20241002T105818Z
UID:20626-1685386800-1685401200@sviluppo.mostradoltremare.it
SUMMARY:Saggio di fine anno Dance Art Project
DESCRIPTION:
URL:https://sviluppo.mostradoltremare.it/event/saggio-di-fine-anno-dance-art-project/
LOCATION:Teatro Mediterraneo\, Viale Kennedy 54\, Napoli\, 80125
CATEGORIES:Spettacoli
ATTACH;FMTTYPE=image/jpeg:https://sviluppo.mostradoltremare.it/wp-content/uploads/2024/10/20626_image_dance-art-project.jpg
ORGANIZER;CN="ASD Centro Studi Danza Dance Art Project":MAILTO:danceartprojectasd@gmail_com
END:VEVENT
END:VCALENDAR