BEGIN:VCALENDAR
VERSION:2.0
PRODID:-//Mostra d&#039;Oltremare - ECPv6.7.0//NONSGML v1.0//EN
CALSCALE:GREGORIAN
METHOD:PUBLISH
X-WR-CALNAME:Mostra d&#039;Oltremare
X-ORIGINAL-URL:https://sviluppo.mostradoltremare.it
X-WR-CALDESC:Eventi per Mostra d&#039;Oltremare
REFRESH-INTERVAL;VALUE=DURATION:PT1H
X-Robots-Tag:noindex
X-PUBLISHED-TTL:PT1H
BEGIN:VTIMEZONE
TZID:UTC
BEGIN:STANDARD
TZOFFSETFROM:+0000
TZOFFSETTO:+0000
TZNAME:UTC
DTSTART:20230101T000000
END:STANDARD
END:VTIMEZONE
BEGIN:VEVENT
DTSTART;TZID=UTC:20230304T093000
DTEND;TZID=UTC:20240305T183000
DTSTAMP:20260421T224602
CREATED:20241001T225053Z
LAST-MODIFIED:20241001T225110Z
UID:20176-1677922200-1709663400@sviluppo.mostradoltremare.it
SUMMARY:EXVAPO 2023 - 4^ edizione
DESCRIPTION:La fiera dello svapo del Sud Italia\nIngresso Viale Kennedy 54\nPer informazioni: info@exvapo.com; per preventivi: direzione@exvapo.com-\nIngresso gratuito\, previa registrazione online. Per scaricare i biglietti: Biglietti – EXVAPO Napoli\nIngresso vietato ai minori di 18 anni se non accompagnati dai propri genitori.
URL:https://sviluppo.mostradoltremare.it/event/exvapo-2023-4-edizione/
LOCATION:Padiglione 6\, Viale Kennedy 54
ATTACH;FMTTYPE=image/png:https://sviluppo.mostradoltremare.it/wp-content/uploads/2024/10/20176_image_Exvapo-2023.png
ORGANIZER;CN="Atohm Service srls":MAILTO:info@exvapo_com
END:VEVENT
BEGIN:VEVENT
DTSTART;TZID=UTC:20230404T093000
DTEND;TZID=UTC:20230404T163000
DTSTAMP:20260421T224602
CREATED:20241002T071213Z
LAST-MODIFIED:20241002T071227Z
UID:20485-1680600600-1680625800@sviluppo.mostradoltremare.it
SUMMARY:JOB MEETING Napoli
DESCRIPTION:Incontri e confronti fra le imprese\, le multinazionali\, gli enti di alta formazione ed i laureati e laureandi.\nIngressi  Piazzale Tecchio e Viale Kennedy.\nRegistrazione su Entra nella Community Job Meeting – Job Meeting
URL:https://sviluppo.mostradoltremare.it/event/job-meeting-napoli/
LOCATION:Padiglione 4\, Napoli\, 80125
ATTACH;FMTTYPE=image/jpeg:https://sviluppo.mostradoltremare.it/wp-content/uploads/2024/10/20485_image_JM-NAPOLI-040423-1.jpg
ORGANIZER;CN="ACSI NAZIONALE SETTORE DANZA":MAILTO:premiodanzaoltreconfine@gmail_com
END:VEVENT
BEGIN:VEVENT
DTSTART;TZID=UTC:20230404T190000
DTEND;TZID=UTC:20230404T230000
DTSTAMP:20260421T224602
CREATED:20241002T071300Z
LAST-MODIFIED:20241002T104458Z
UID:20492-1680634800-1680649200@sviluppo.mostradoltremare.it
SUMMARY:COMMEMORAZIONE DELLA MORTE DI GESU'
DESCRIPTION:Anche quest’anno milioni di persone in tutto il mondo si uniranno ai Testimoni di Geova per commemorare la morte di Gesù. Fu Gesù stesso a comandare di farlo\, quando disse: “Continuate a far questo in mio ricordo” (Luca 22:19).\nDurata Evento circa un’ora. Inizio ore 19\,00 con replica alle ore 21\,00\nIngresso gratuito.
URL:https://sviluppo.mostradoltremare.it/event/commemorazione-della-morte-di-gesu/
LOCATION:Teatro Mediterraneo e Sala Italia\, Viale Kennedy 54\, Napoli\, 80125\, Italia
ATTACH;FMTTYPE=image/jpeg:https://sviluppo.mostradoltremare.it/wp-content/uploads/2024/10/20492_image_732-Commemorazione.jpg
ORGANIZER;CN="ACSI NAZIONALE SETTORE DANZA":MAILTO:premiodanzaoltreconfine@gmail_com
END:VEVENT
END:VCALENDAR