BEGIN:VCALENDAR
VERSION:2.0
PRODID:-//Mostra d&#039;Oltremare - ECPv6.7.0//NONSGML v1.0//EN
CALSCALE:GREGORIAN
METHOD:PUBLISH
X-WR-CALNAME:Mostra d&#039;Oltremare
X-ORIGINAL-URL:https://sviluppo.mostradoltremare.it
X-WR-CALDESC:Eventi per Mostra d&#039;Oltremare
REFRESH-INTERVAL;VALUE=DURATION:PT1H
X-Robots-Tag:noindex
X-PUBLISHED-TTL:PT1H
BEGIN:VTIMEZONE
TZID:UTC
BEGIN:STANDARD
TZOFFSETFROM:+0000
TZOFFSETTO:+0000
TZNAME:UTC
DTSTART:20230101T000000
END:STANDARD
END:VTIMEZONE
BEGIN:VEVENT
DTSTART;TZID=UTC:20230303T100000
DTEND;TZID=UTC:20230305T180000
DTSTAMP:20260422T001113
CREATED:20241001T224959Z
LAST-MODIFIED:20241001T225012Z
UID:20170-1677837600-1678039200@sviluppo.mostradoltremare.it
SUMMARY:MED EXHIBIT PRINT 2023
DESCRIPTION:Macchine da stampa\, attrezzature per la grafica.\nIngresso Viale Kennedy 54\nInfoline 3931796931\nRegistrazione visitatori sul sito della manifestazione: \nMed Exhibit Print 2023: la Fiera della stampa in campania
URL:https://sviluppo.mostradoltremare.it/event/med-exhibit-print-2023/
LOCATION:Padiglione 5\, viale Kennedy 54\, Napoli\, NA\, 80125
ATTACH;FMTTYPE=image/jpeg:https://sviluppo.mostradoltremare.it/wp-content/uploads/2024/10/20170_image_medexhibitprint-2023.jpg
ORGANIZER;CN="Spazio Creativo srl":MAILTO:info@medexhibitprint_it
END:VEVENT
END:VCALENDAR