BEGIN:VCALENDAR
VERSION:2.0
PRODID:-//Mostra d&#039;Oltremare - ECPv6.7.0//NONSGML v1.0//EN
CALSCALE:GREGORIAN
METHOD:PUBLISH
X-ORIGINAL-URL:https://sviluppo.mostradoltremare.it
X-WR-CALDESC:Eventi per Mostra d&#039;Oltremare
REFRESH-INTERVAL;VALUE=DURATION:PT1H
X-Robots-Tag:noindex
X-PUBLISHED-TTL:PT1H
BEGIN:VTIMEZONE
TZID:UTC
BEGIN:STANDARD
TZOFFSETFROM:+0000
TZOFFSETTO:+0000
TZNAME:UTC
DTSTART:20230101T000000
END:STANDARD
END:VTIMEZONE
BEGIN:VEVENT
DTSTART;TZID=UTC:20230301T080000
DTEND;TZID=UTC:20230301T150000
DTSTAMP:20260422T001127
CREATED:20241001T224801Z
LAST-MODIFIED:20241001T224821Z
UID:20159-1677657600-1677682800@sviluppo.mostradoltremare.it
SUMMARY:Concorso So.Re.Sa. per MMG
DESCRIPTION:CONCORSO PER L’ACCESSO AL CORSO DI FORMAZIONE SPECIFICA IN MEDICINA GENERALE  triennio 2023-2025.\nEntrata Piazzale Tecchio
URL:https://sviluppo.mostradoltremare.it/event/concorso-so-re-sa-per-mmg/
LOCATION:Padiglione 10\, Piazzale Tecchio\, Napoli\, 80125
ATTACH;FMTTYPE=image/png:https://sviluppo.mostradoltremare.it/wp-content/uploads/2024/10/20159_image_soresa.png
ORGANIZER;CN="So.Re.Sa S.p.A":MAILTO:soresa@pec_soresa_it
END:VEVENT
BEGIN:VEVENT
DTSTART;TZID=UTC:20230301T080000
DTEND;TZID=UTC:20230301T150000
DTSTAMP:20260422T001127
CREATED:20241001T224904Z
LAST-MODIFIED:20241002T104034Z
UID:20164-1677657600-1677682800@sviluppo.mostradoltremare.it
SUMMARY:Concorso ABC Acqua Bene Comune
DESCRIPTION:Selezione ad evidenza pubblica per l’assunzione a tempo indeterminato di una risorsa iscritta al Collocamento Obbligatorio in qualità di Categoria Protetta. Somministrazione  Test Psicoattitudinali.\nIngresso Viale Kennedy 54
URL:https://sviluppo.mostradoltremare.it/event/concorso-abc-acqua-bene-comune/
LOCATION:Sala Italia\, Napoli\, 80125
ATTACH;FMTTYPE=image/png:https://sviluppo.mostradoltremare.it/wp-content/uploads/2024/10/20164_image_ABC-ACQUA-BENE-COMUNE.png
ORGANIZER;CN="So.Re.Sa S.p.A":MAILTO:soresa@pec_soresa_it
END:VEVENT
END:VCALENDAR